BEGIN:VCALENDAR
VERSION:2.0
PRODID:-//Sportgaststätte Leukersdorf - ECPv6.15.13.1//NONSGML v1.0//EN
CALSCALE:GREGORIAN
METHOD:PUBLISH
X-WR-CALNAME:Sportgaststätte Leukersdorf
X-ORIGINAL-URL:https://sportgaststaette-leukersdorf.de
X-WR-CALDESC:Veranstaltungen für Sportgaststätte Leukersdorf
REFRESH-INTERVAL;VALUE=DURATION:PT1H
X-Robots-Tag:noindex
X-PUBLISHED-TTL:PT1H
BEGIN:VTIMEZONE
TZID:Europe/Berlin
BEGIN:DAYLIGHT
TZOFFSETFROM:+0100
TZOFFSETTO:+0200
TZNAME:CEST
DTSTART:20250330T010000
END:DAYLIGHT
BEGIN:STANDARD
TZOFFSETFROM:+0200
TZOFFSETTO:+0100
TZNAME:CET
DTSTART:20251026T010000
END:STANDARD
BEGIN:DAYLIGHT
TZOFFSETFROM:+0100
TZOFFSETTO:+0200
TZNAME:CEST
DTSTART:20260329T010000
END:DAYLIGHT
BEGIN:STANDARD
TZOFFSETFROM:+0200
TZOFFSETTO:+0100
TZNAME:CET
DTSTART:20261025T010000
END:STANDARD
BEGIN:DAYLIGHT
TZOFFSETFROM:+0100
TZOFFSETTO:+0200
TZNAME:CEST
DTSTART:20270328T010000
END:DAYLIGHT
BEGIN:STANDARD
TZOFFSETFROM:+0200
TZOFFSETTO:+0100
TZNAME:CET
DTSTART:20271031T010000
END:STANDARD
END:VTIMEZONE
BEGIN:VEVENT
DTSTART;VALUE=DATE:20260625
DTEND;VALUE=DATE:20260914
DTSTAMP:20260424T183917
CREATED:20251124T174845Z
LAST-MODIFIED:20251124T174845Z
UID:249097-1782345600-1789343999@sportgaststaette-leukersdorf.de
SUMMARY:Sommer Sonne laue Nächte
DESCRIPTION:Lasst Euch Verwöhnen – genießt mit Freunden & Familie unsere leckeren Sommergerichte
URL:https://sportgaststaette-leukersdorf.de/event/sommer-sonne-laue-naechte/
LOCATION:Sportgaststätte Leukersdorf\, Siedlerstraße 28\, Jahnsdorf OT Leukersdorf\, Sachsen\, 09387\, Deutschland
END:VEVENT
BEGIN:VEVENT
DTSTART;TZID=Europe/Berlin:20260925T190000
DTEND;TZID=Europe/Berlin:20260925T220000
DTSTAMP:20260424T183917
CREATED:20251124T175358Z
LAST-MODIFIED:20251124T175358Z
UID:248433-1790362800-1790373600@sportgaststaette-leukersdorf.de
SUMMARY:Opa Krause
DESCRIPTION:Opa Krause mit Pflegeschwester Comedy & 3-Gänge Menü inklusive Begrüßungsgetränk \nIch lebe im Altenheim mit meiner Frau und werde rührend von Pflegeschwester Astrid mit Herztropfen versorgt. Doch wehe\, die Oberschwester Hildegard naht\, dann wird es heiß! \nEinlass 18Uhr Vorbestellung erforderlich
URL:https://sportgaststaette-leukersdorf.de/event/opa-krause/
LOCATION:Sportgaststätte Leukersdorf\, Siedlerstraße 28\, Jahnsdorf OT Leukersdorf\, Sachsen\, 09387\, Deutschland
END:VEVENT
END:VCALENDAR