BEGIN:VCALENDAR
VERSION:2.0
PRODID:-//Sportgaststätte Leukersdorf - ECPv6.15.13.1//NONSGML v1.0//EN
CALSCALE:GREGORIAN
METHOD:PUBLISH
X-WR-CALNAME:Sportgaststätte Leukersdorf
X-ORIGINAL-URL:https://sportgaststaette-leukersdorf.de
X-WR-CALDESC:Veranstaltungen für Sportgaststätte Leukersdorf
REFRESH-INTERVAL;VALUE=DURATION:PT1H
X-Robots-Tag:noindex
X-PUBLISHED-TTL:PT1H
BEGIN:VTIMEZONE
TZID:Europe/Berlin
BEGIN:DAYLIGHT
TZOFFSETFROM:+0100
TZOFFSETTO:+0200
TZNAME:CEST
DTSTART:20250330T010000
END:DAYLIGHT
BEGIN:STANDARD
TZOFFSETFROM:+0200
TZOFFSETTO:+0100
TZNAME:CET
DTSTART:20251026T010000
END:STANDARD
BEGIN:DAYLIGHT
TZOFFSETFROM:+0100
TZOFFSETTO:+0200
TZNAME:CEST
DTSTART:20260329T010000
END:DAYLIGHT
BEGIN:STANDARD
TZOFFSETFROM:+0200
TZOFFSETTO:+0100
TZNAME:CET
DTSTART:20261025T010000
END:STANDARD
BEGIN:DAYLIGHT
TZOFFSETFROM:+0100
TZOFFSETTO:+0200
TZNAME:CEST
DTSTART:20270328T010000
END:DAYLIGHT
BEGIN:STANDARD
TZOFFSETFROM:+0200
TZOFFSETTO:+0100
TZNAME:CET
DTSTART:20271031T010000
END:STANDARD
END:VTIMEZONE
BEGIN:VEVENT
DTSTART;VALUE=DATE:20260207
DTEND;VALUE=DATE:20260216
DTSTAMP:20260424T140753
CREATED:20251124T165940Z
LAST-MODIFIED:20251124T170030Z
UID:249069-1770422400-1771199999@sportgaststaette-leukersdorf.de
SUMMARY:Betriebsruhe
DESCRIPTION:Kurze Pause\, wir sind bald wieder für Euch da…
URL:https://sportgaststaette-leukersdorf.de/event/betriebsruhe-6/
LOCATION:Sportgaststätte Leukersdorf\, Siedlerstraße 28\, Jahnsdorf OT Leukersdorf\, Sachsen\, 09387\, Deutschland
END:VEVENT
BEGIN:VEVENT
DTSTART;TZID=Europe/Berlin:20260221T190000
DTEND;TZID=Europe/Berlin:20260221T230000
DTSTAMP:20260424T140753
CREATED:20260113T101502Z
LAST-MODIFIED:20260113T101647Z
UID:249167-1771700400-1771714800@sportgaststaette-leukersdorf.de
SUMMARY:Miriquidi Meltingpot - von Barbara Uthmann bis zu August dem Starken Teil II
DESCRIPTION:Teil II  von Barbara Uthmann bis zu August dem Starken\nBeginn 19.00 Uhr\n75€ pro Person \nLasst euch kulinarisch verwöhnen und erlebt im begleitendem Theaterstück die Besiedlungsgeschichte unserer Region.\nWie haben sich Berggeschreye\, Industriealisierung und große historische Umwälzungen auf die Esskultur unserer Region ausgewirkt.\nDiesen und anderen Fragen widmet sich unsere neue Eventserie.
URL:https://sportgaststaette-leukersdorf.de/event/miriquidi-meltingpot-vom-urwald-in-die-zukunft-teil-ii-2/
LOCATION:Sportgaststätte Leukersdorf\, Siedlerstraße 28\, Jahnsdorf OT Leukersdorf\, Sachsen\, 09387\, Deutschland
CATEGORIES:Miriquidi Meltingpot
END:VEVENT
BEGIN:VEVENT
DTSTART;TZID=Europe/Berlin:20260227T190000
DTEND;TZID=Europe/Berlin:20260227T230000
DTSTAMP:20260424T140753
CREATED:20251124T170354Z
LAST-MODIFIED:20251124T170354Z
UID:249071-1772218800-1772233200@sportgaststaette-leukersdorf.de
SUMMARY:Bauer Benedix
DESCRIPTION:Als Leibeigener des Ritter von Harras lebe ich mit meinem Weibe Beate in einem der 13 Frondörfer meines Herren – in Braunsdorf am Fuße der Burg. Ich verrichte gewissenhaft meinen Frondienst und erledige demütig die Aufgaben meiner Alten! \nComedy und 3-Gänge Menü inklusive Begrüßungsgetränk\, verbindliche Vorbestellung nur mit Vorkasse\, 69\,-€.
URL:https://sportgaststaette-leukersdorf.de/event/bauer-benedix-in-der-sportgaststaette-leukersdorf/
LOCATION:Sportgaststätte Leukersdorf\, Siedlerstraße 28\, Jahnsdorf OT Leukersdorf\, Sachsen\, 09387\, Deutschland
END:VEVENT
END:VCALENDAR