BEGIN:VCALENDAR
VERSION:2.0
PRODID:-//Sportgaststätte Leukersdorf - ECPv6.15.13.1//NONSGML v1.0//EN
CALSCALE:GREGORIAN
METHOD:PUBLISH
X-ORIGINAL-URL:https://sportgaststaette-leukersdorf.de
X-WR-CALDESC:Veranstaltungen für Sportgaststätte Leukersdorf
REFRESH-INTERVAL;VALUE=DURATION:PT1H
X-Robots-Tag:noindex
X-PUBLISHED-TTL:PT1H
BEGIN:VTIMEZONE
TZID:Europe/Berlin
BEGIN:DAYLIGHT
TZOFFSETFROM:+0100
TZOFFSETTO:+0200
TZNAME:CEST
DTSTART:20240331T010000
END:DAYLIGHT
BEGIN:STANDARD
TZOFFSETFROM:+0200
TZOFFSETTO:+0100
TZNAME:CET
DTSTART:20241027T010000
END:STANDARD
BEGIN:DAYLIGHT
TZOFFSETFROM:+0100
TZOFFSETTO:+0200
TZNAME:CEST
DTSTART:20250330T010000
END:DAYLIGHT
BEGIN:STANDARD
TZOFFSETFROM:+0200
TZOFFSETTO:+0100
TZNAME:CET
DTSTART:20251026T010000
END:STANDARD
BEGIN:DAYLIGHT
TZOFFSETFROM:+0100
TZOFFSETTO:+0200
TZNAME:CEST
DTSTART:20260329T010000
END:DAYLIGHT
BEGIN:STANDARD
TZOFFSETFROM:+0200
TZOFFSETTO:+0100
TZNAME:CET
DTSTART:20261025T010000
END:STANDARD
END:VTIMEZONE
BEGIN:VEVENT
DTSTART;TZID=Europe/Berlin:20251207T170000
DTEND;TZID=Europe/Berlin:20251207T210000
DTSTAMP:20260424T172329
CREATED:20241127T105355Z
LAST-MODIFIED:20241127T105355Z
UID:249048-1765126800-1765141200@sportgaststaette-leukersdorf.de
SUMMARY:Neunerlei
DESCRIPTION:Wir führen Euch durchs Neunerlei und die Bedeutung seiner Bestandteile\, gewürzt mit Erzgebirgischen Weihnachtsbräuchen und Geschichten. \nPreis 56\,-€ pro Person\, nur mit Vorbestellung.
URL:https://sportgaststaette-leukersdorf.de/event/neunerlei-5/
LOCATION:Sportgaststätte Leukersdorf\, Siedlerstraße 28\, Jahnsdorf OT Leukersdorf\, Sachsen\, 09387\, Deutschland
END:VEVENT
BEGIN:VEVENT
DTSTART;TZID=Europe/Berlin:20251212T190000
DTEND;TZID=Europe/Berlin:20251212T230000
DTSTAMP:20260424T172329
CREATED:20241127T110009Z
LAST-MODIFIED:20241127T110009Z
UID:249052-1765566000-1765580400@sportgaststaette-leukersdorf.de
SUMMARY:Zwerg „RUMPEL"-stielzchen - der Schatzwächter des Ritter von Harras
DESCRIPTION:ZWERG\n\n\n\n\n\n\n\n\n\n\nZwerg „RUMPEL“-stielzchen – der Schatzwächter des Ritter von Harras \nMit 6 Zwergen im Bergwerk gearbeitet. Leider dem Weibervolk sehr zugetan und dadurch immmer in Schwierigkeiten. Durch ein Stellenangebot auf die Burg Lichtenwalde gekommen\, um Schätze zu bewachen und mich in die falsche Frau verliebt. \n\nComedy & 4-Gänge Menü\, verbindliche Vorbestellung nur mit Vorkasse\, 69\,-€ pro Person.
URL:https://sportgaststaette-leukersdorf.de/event/zwerg-rumpel-stielzchen-der-schatzwaechter-des-ritter-von-harras-5/
LOCATION:Sportgaststätte Leukersdorf\, Siedlerstraße 28\, Jahnsdorf OT Leukersdorf\, Sachsen\, 09387\, Deutschland
END:VEVENT
BEGIN:VEVENT
DTSTART;TZID=Europe/Berlin:20251214T170000
DTEND;TZID=Europe/Berlin:20251214T210000
DTSTAMP:20260424T172329
CREATED:20241127T105431Z
LAST-MODIFIED:20241127T105431Z
UID:249050-1765731600-1765746000@sportgaststaette-leukersdorf.de
SUMMARY:Neunerlei
DESCRIPTION:Wir führen Euch durchs Neunerlei und die Bedeutung seiner Bestandteile\, gewürzt mit Erzgebirgischen Weihnachtsbräuchen und Geschichten. \nPreis 56\,-€ pro Person\, nur mit Vorbestellung.
URL:https://sportgaststaette-leukersdorf.de/event/neunerlei-6/
LOCATION:Sportgaststätte Leukersdorf\, Siedlerstraße 28\, Jahnsdorf OT Leukersdorf\, Sachsen\, 09387\, Deutschland
END:VEVENT
BEGIN:VEVENT
DTSTART;TZID=Europe/Berlin:20251215T190000
DTEND;TZID=Europe/Berlin:20251215T220000
DTSTAMP:20260424T172329
CREATED:20241127T110056Z
LAST-MODIFIED:20241127T110056Z
UID:249054-1765825200-1765836000@sportgaststaette-leukersdorf.de
SUMMARY:Bruder Martin
DESCRIPTION:BRUDER MARTIN\n\n\n\n\n\n\n\n\n\n\nBruder Martin – der Burgpfarrer auf Lichtenwalde \nAls Beichtvater des Herrn Ritter Harras höre ich so manche pikanten Sachen\, über die ich natürlich nichts erzählen werde! Meine Haushilfe ist die Schwester Anna\, die mir in vertrauter Weise zur Hand geht und sich „hochlöblichst“ um mich kümmert. \n\nVerbindliche Vorbestellung nur gegen Vorkasse. \n69€ incl. 4-Gänge Menü
URL:https://sportgaststaette-leukersdorf.de/event/bruder-martin-5/
LOCATION:Sportgaststätte Leukersdorf\, Siedlerstraße 28\, Jahnsdorf OT Leukersdorf\, Sachsen\, 09387\, Deutschland
END:VEVENT
BEGIN:VEVENT
DTSTART;TZID=Europe/Berlin:20251231T180000
DTEND;TZID=Europe/Berlin:20251231T220000
DTSTAMP:20260424T172329
CREATED:20251124T181421Z
LAST-MODIFIED:20251124T181421Z
UID:249128-1767204000-1767218400@sportgaststaette-leukersdorf.de
SUMMARY:Silvestermenü
DESCRIPTION:Wir bieten Euch ein spannendes 5-Gang Menü zum Jahreswechsel. \nVorbestellung erforderlich.
URL:https://sportgaststaette-leukersdorf.de/event/silvestermenue/
LOCATION:Sportgaststätte Leukersdorf\, Siedlerstraße 28\, Jahnsdorf OT Leukersdorf\, Sachsen\, 09387\, Deutschland
END:VEVENT
END:VCALENDAR