BEGIN:VCALENDAR
VERSION:2.0
PRODID:-//Sportgaststätte Leukersdorf - ECPv6.15.13.1//NONSGML v1.0//EN
CALSCALE:GREGORIAN
METHOD:PUBLISH
X-WR-CALNAME:Sportgaststätte Leukersdorf
X-ORIGINAL-URL:https://sportgaststaette-leukersdorf.de
X-WR-CALDESC:Veranstaltungen für Sportgaststätte Leukersdorf
REFRESH-INTERVAL;VALUE=DURATION:PT1H
X-Robots-Tag:noindex
X-PUBLISHED-TTL:PT1H
BEGIN:VTIMEZONE
TZID:Europe/Berlin
BEGIN:DAYLIGHT
TZOFFSETFROM:+0100
TZOFFSETTO:+0200
TZNAME:CEST
DTSTART:20240331T010000
END:DAYLIGHT
BEGIN:STANDARD
TZOFFSETFROM:+0200
TZOFFSETTO:+0100
TZNAME:CET
DTSTART:20241027T010000
END:STANDARD
BEGIN:DAYLIGHT
TZOFFSETFROM:+0100
TZOFFSETTO:+0200
TZNAME:CEST
DTSTART:20250330T010000
END:DAYLIGHT
BEGIN:STANDARD
TZOFFSETFROM:+0200
TZOFFSETTO:+0100
TZNAME:CET
DTSTART:20251026T010000
END:STANDARD
BEGIN:DAYLIGHT
TZOFFSETFROM:+0100
TZOFFSETTO:+0200
TZNAME:CEST
DTSTART:20260329T010000
END:DAYLIGHT
BEGIN:STANDARD
TZOFFSETFROM:+0200
TZOFFSETTO:+0100
TZNAME:CET
DTSTART:20261025T010000
END:STANDARD
END:VTIMEZONE
BEGIN:VEVENT
DTSTART;TZID=Europe/Berlin:20251107T170000
DTEND;TZID=Europe/Berlin:20251107T220000
DTSTAMP:20260424T185230
CREATED:20241127T104511Z
LAST-MODIFIED:20241127T104511Z
UID:249032-1762534800-1762552800@sportgaststaette-leukersdorf.de
SUMMARY:Martinsgans
DESCRIPTION:Die erste Gans des Jahres\, dazu Apfel-Rotkraut und Grüne Klöße natürlich alles Hausgemacht. \nBitte nur mit Vorbestellung.
URL:https://sportgaststaette-leukersdorf.de/event/martinsgans-10/
LOCATION:Sportgaststätte Leukersdorf\, Siedlerstraße 28\, Jahnsdorf OT Leukersdorf\, Sachsen\, 09387\, Deutschland
END:VEVENT
BEGIN:VEVENT
DTSTART;TZID=Europe/Berlin:20251108T170000
DTEND;TZID=Europe/Berlin:20251108T220000
DTSTAMP:20260424T185230
CREATED:20241127T104602Z
LAST-MODIFIED:20241127T104602Z
UID:249034-1762621200-1762639200@sportgaststaette-leukersdorf.de
SUMMARY:Martinsgans
DESCRIPTION:Die erste Gans des Jahres\, dazu Apfel-Rotkraut und Grüne Klöße natürlich alles Hausgemacht. \nBitte nur mit Vorbestellung.
URL:https://sportgaststaette-leukersdorf.de/event/martinsgans-11/
LOCATION:Sportgaststätte Leukersdorf\, Siedlerstraße 28\, Jahnsdorf OT Leukersdorf\, Sachsen\, 09387\, Deutschland
END:VEVENT
BEGIN:VEVENT
DTSTART;TZID=Europe/Berlin:20251109T170000
DTEND;TZID=Europe/Berlin:20251109T220000
DTSTAMP:20260424T185230
CREATED:20241127T104714Z
LAST-MODIFIED:20241127T104714Z
UID:249036-1762707600-1762725600@sportgaststaette-leukersdorf.de
SUMMARY:Martinsgans
DESCRIPTION:Die erste Gans des Jahres\, dazu Apfel-Rotkraut und Grüne Klöße natürlich alles Hausgemacht. \nBitte nur mit Vorbestellung.
URL:https://sportgaststaette-leukersdorf.de/event/martinsgans-12/
LOCATION:Sportgaststätte Leukersdorf\, Siedlerstraße 28\, Jahnsdorf OT Leukersdorf\, Sachsen\, 09387\, Deutschland
END:VEVENT
BEGIN:VEVENT
DTSTART;TZID=Europe/Berlin:20251110T170000
DTEND;TZID=Europe/Berlin:20251110T220000
DTSTAMP:20260424T185230
CREATED:20241127T104747Z
LAST-MODIFIED:20241127T104747Z
UID:249038-1762794000-1762812000@sportgaststaette-leukersdorf.de
SUMMARY:Martinsgans
DESCRIPTION:Die erste Gans des Jahres\, dazu Apfel-Rotkraut und Grüne Klöße natürlich alles Hausgemacht. \nBitte nur mit Vorbestellung.
URL:https://sportgaststaette-leukersdorf.de/event/martinsgans-13/
LOCATION:Sportgaststätte Leukersdorf\, Siedlerstraße 28\, Jahnsdorf OT Leukersdorf\, Sachsen\, 09387\, Deutschland
END:VEVENT
BEGIN:VEVENT
DTSTART;TZID=Europe/Berlin:20251114T190000
DTEND;TZID=Europe/Berlin:20251114T230000
DTSTAMP:20260424T185230
CREATED:20241127T104842Z
LAST-MODIFIED:20241127T104842Z
UID:249040-1763146800-1763161200@sportgaststaette-leukersdorf.de
SUMMARY:Bierspezialitäten "Kostbar"
DESCRIPTION:Bier-Sommeliere Lisa Goldmann führt\, begleitet von einem 4-Gänge Menü\, durch die Vielfalt von Wasser\, Hopfen und Malz. \nVorbestellung erforderlich\, Preis p.P. 69\,-€
URL:https://sportgaststaette-leukersdorf.de/event/bierspezialitaeten-kostbar-2/
LOCATION:Sportgaststätte Leukersdorf\, Siedlerstraße 28\, Jahnsdorf OT Leukersdorf\, Sachsen\, 09387\, Deutschland
END:VEVENT
BEGIN:VEVENT
DTSTART;TZID=Europe/Berlin:20251128T180000
DTEND;TZID=Europe/Berlin:20251128T220000
DTSTAMP:20260424T185230
CREATED:20241127T105049Z
LAST-MODIFIED:20241127T105049Z
UID:249042-1764352800-1764367200@sportgaststaette-leukersdorf.de
SUMMARY:Neunerlei
DESCRIPTION:Wir führen Euch durchs Neunerlei und die Bedeutung seiner Bestandteile\, gewürzt mit Erzgebirgischen Weihnachtsbräuchen und Geschichten. \nPreis 56\,-€ pro Person\, nur mit Vorbestellung.
URL:https://sportgaststaette-leukersdorf.de/event/neunerlei-3/
LOCATION:Sportgaststätte Leukersdorf\, Siedlerstraße 28\, Jahnsdorf OT Leukersdorf\, Sachsen\, 09387\, Deutschland
END:VEVENT
BEGIN:VEVENT
DTSTART;TZID=Europe/Berlin:20251129T180000
DTEND;TZID=Europe/Berlin:20251129T220000
DTSTAMP:20260424T185230
CREATED:20241127T105118Z
LAST-MODIFIED:20241127T105118Z
UID:249044-1764439200-1764453600@sportgaststaette-leukersdorf.de
SUMMARY:Neunerlei
DESCRIPTION:Wir führen Euch durchs Neunerlei und die Bedeutung seiner Bestandteile\, gewürzt mit Erzgebirgischen Weihnachtsbräuchen und Geschichten. \nPreis 56\,-€ pro Person\, nur mit Vorbestellung.
URL:https://sportgaststaette-leukersdorf.de/event/neunerlei-4/
LOCATION:Sportgaststätte Leukersdorf\, Siedlerstraße 28\, Jahnsdorf OT Leukersdorf\, Sachsen\, 09387\, Deutschland
END:VEVENT
BEGIN:VEVENT
DTSTART;TZID=Europe/Berlin:20251130T163000
DTEND;TZID=Europe/Berlin:20251130T210000
DTSTAMP:20260424T185230
CREATED:20241127T105258Z
LAST-MODIFIED:20241127T105258Z
UID:249046-1764520200-1764536400@sportgaststaette-leukersdorf.de
SUMMARY:Pyramiede anschieben und Hutzenabnd
DESCRIPTION:Traditionell wird auch dieses Jahr bei uns zum Ersten Advent\, die Pyramide angeschoben und die Fichte zum Strahlen gebracht. Mit Hilfe der Ortsansässigen Vereine begehen wir ab 16:30Uhr einen zünftigen Start in die Weihnachtszeit. Ab 18Uhr gibt es dann in der Gaststube wieder typisch Erzgebirgische Unterhaltung\, natürlich auch kulinarisch mit den traditionellen Gerichten der Region.
URL:https://sportgaststaette-leukersdorf.de/event/pyramiede-anschieben-und-hutzenabnd-2/
LOCATION:Sportgaststätte Leukersdorf\, Siedlerstraße 28\, Jahnsdorf OT Leukersdorf\, Sachsen\, 09387\, Deutschland
END:VEVENT
END:VCALENDAR