BEGIN:VCALENDAR
VERSION:2.0
PRODID:-//Sportgaststätte Leukersdorf - ECPv6.15.13.1//NONSGML v1.0//EN
CALSCALE:GREGORIAN
METHOD:PUBLISH
X-ORIGINAL-URL:https://sportgaststaette-leukersdorf.de
X-WR-CALDESC:Veranstaltungen für Sportgaststätte Leukersdorf
REFRESH-INTERVAL;VALUE=DURATION:PT1H
X-Robots-Tag:noindex
X-PUBLISHED-TTL:PT1H
BEGIN:VTIMEZONE
TZID:Europe/Berlin
BEGIN:DAYLIGHT
TZOFFSETFROM:+0100
TZOFFSETTO:+0200
TZNAME:CEST
DTSTART:20240331T010000
END:DAYLIGHT
BEGIN:STANDARD
TZOFFSETFROM:+0200
TZOFFSETTO:+0100
TZNAME:CET
DTSTART:20241027T010000
END:STANDARD
BEGIN:DAYLIGHT
TZOFFSETFROM:+0100
TZOFFSETTO:+0200
TZNAME:CEST
DTSTART:20250330T010000
END:DAYLIGHT
BEGIN:STANDARD
TZOFFSETFROM:+0200
TZOFFSETTO:+0100
TZNAME:CET
DTSTART:20251026T010000
END:STANDARD
BEGIN:DAYLIGHT
TZOFFSETFROM:+0100
TZOFFSETTO:+0200
TZNAME:CEST
DTSTART:20260329T010000
END:DAYLIGHT
BEGIN:STANDARD
TZOFFSETFROM:+0200
TZOFFSETTO:+0100
TZNAME:CET
DTSTART:20261025T010000
END:STANDARD
END:VTIMEZONE
BEGIN:VEVENT
DTSTART;TZID=Europe/Berlin:20251010T190000
DTEND;TZID=Europe/Berlin:20251010T230000
DTSTAMP:20260424T202040
CREATED:20241127T103519Z
LAST-MODIFIED:20241127T103519Z
UID:249022-1760122800-1760137200@sportgaststaette-leukersdorf.de
SUMMARY:Bierspezialitäten "Kostbar"
DESCRIPTION:Bier-Sommeliere Lisa Goldmann führt\, begleitet von einem 4-Gänge Menü\, durch die Vielfalt von Wasser\, Hopfen und Malz. \nVorbestellung erforderlich\, Preis p.P. 69\,-€
URL:https://sportgaststaette-leukersdorf.de/event/bierspezialitaeten-kostbar/
LOCATION:Sportgaststätte Leukersdorf\, Siedlerstraße 28\, Jahnsdorf OT Leukersdorf\, Sachsen\, 09387\, Deutschland
END:VEVENT
BEGIN:VEVENT
DTSTART;TZID=Europe/Berlin:20251017T190000
DTEND;TZID=Europe/Berlin:20251017T230000
DTSTAMP:20260424T202040
CREATED:20241127T103900Z
LAST-MODIFIED:20241127T103900Z
UID:249026-1760727600-1760742000@sportgaststaette-leukersdorf.de
SUMMARY:Miriquidi Meltingpot - vom Urwald in die Zukunft Teil IV *Premiere*
DESCRIPTION:Premiere Teil IV\nBeginn 19.00 Uhr\n75€ pro Person \nLasst euch kulinarisch verwöhnen und erlebt im begleitendem Theaterstück die Besiedlungsgeschichte unserer Region.\nWie haben sich Berggeschreye\, Industriealisierung und große historische Umwälzungen auf die Esskultur unserer Region ausgewirkt.\nDiesen und anderen Fragen widmet sich unsere neue Eventserie.
URL:https://sportgaststaette-leukersdorf.de/event/miriquidi-meltingpot-vom-urwald-in-die-zukunft-teil-iv-premiere/
LOCATION:Sportgaststätte Leukersdorf\, Siedlerstraße 28\, Jahnsdorf OT Leukersdorf\, Sachsen\, 09387\, Deutschland
CATEGORIES:Miriquidi Meltingpot
END:VEVENT
BEGIN:VEVENT
DTSTART;TZID=Europe/Berlin:20251024T190000
DTEND;TZID=Europe/Berlin:20251024T220000
DTSTAMP:20260424T202040
CREATED:20241127T104043Z
LAST-MODIFIED:20241127T104043Z
UID:249028-1761332400-1761343200@sportgaststaette-leukersdorf.de
SUMMARY:Bruder Martin
DESCRIPTION:BRUDER MARTIN\n\n\n\n\n\n\n\n\n\n\nBruder Martin – der Burgpfarrer auf Lichtenwalde \nAls Beichtvater des Herrn Ritter Harras höre ich so manche pikanten Sachen\, über die ich natürlich nichts erzählen werde! Meine Haushilfe ist die Schwester Anna\, die mir in vertrauter Weise zur Hand geht und sich „hochlöblichst“ um mich kümmert. \n\nVerbindliche Vorbestellung nur gegen Vorkasse. \n69€ incl. 4-Gänge Menü
URL:https://sportgaststaette-leukersdorf.de/event/bruder-martin-4/
LOCATION:Sportgaststätte Leukersdorf\, Siedlerstraße 28\, Jahnsdorf OT Leukersdorf\, Sachsen\, 09387\, Deutschland
END:VEVENT
BEGIN:VEVENT
DTSTART;TZID=Europe/Berlin:20251031T100000
DTEND;TZID=Europe/Berlin:20251031T150000
DTSTAMP:20260424T202040
CREATED:20241127T104356Z
LAST-MODIFIED:20241127T104356Z
UID:249030-1761904800-1761922800@sportgaststaette-leukersdorf.de
SUMMARY:Reformationsfest
DESCRIPTION:Zum Mittagstisch\, haben wir für Euch heute bis 15:00Uhr geöffnet.
URL:https://sportgaststaette-leukersdorf.de/event/reformationsfest/
LOCATION:Sportgaststätte Leukersdorf\, Siedlerstraße 28\, Jahnsdorf OT Leukersdorf\, Sachsen\, 09387\, Deutschland
END:VEVENT
END:VCALENDAR