BEGIN:VCALENDAR
VERSION:2.0
PRODID:-//Sportgaststätte Leukersdorf - ECPv6.15.13.1//NONSGML v1.0//EN
CALSCALE:GREGORIAN
METHOD:PUBLISH
X-WR-CALNAME:Sportgaststätte Leukersdorf
X-ORIGINAL-URL:https://sportgaststaette-leukersdorf.de
X-WR-CALDESC:Veranstaltungen für Sportgaststätte Leukersdorf
REFRESH-INTERVAL;VALUE=DURATION:PT1H
X-Robots-Tag:noindex
X-PUBLISHED-TTL:PT1H
BEGIN:VTIMEZONE
TZID:Europe/Berlin
BEGIN:DAYLIGHT
TZOFFSETFROM:+0100
TZOFFSETTO:+0200
TZNAME:CEST
DTSTART:20250330T010000
END:DAYLIGHT
BEGIN:STANDARD
TZOFFSETFROM:+0200
TZOFFSETTO:+0100
TZNAME:CET
DTSTART:20251026T010000
END:STANDARD
BEGIN:DAYLIGHT
TZOFFSETFROM:+0100
TZOFFSETTO:+0200
TZNAME:CEST
DTSTART:20260329T010000
END:DAYLIGHT
BEGIN:STANDARD
TZOFFSETFROM:+0200
TZOFFSETTO:+0100
TZNAME:CET
DTSTART:20261025T010000
END:STANDARD
BEGIN:DAYLIGHT
TZOFFSETFROM:+0100
TZOFFSETTO:+0200
TZNAME:CEST
DTSTART:20270328T010000
END:DAYLIGHT
BEGIN:STANDARD
TZOFFSETFROM:+0200
TZOFFSETTO:+0100
TZNAME:CET
DTSTART:20271031T010000
END:STANDARD
END:VTIMEZONE
BEGIN:VEVENT
DTSTART;TZID=Europe/Berlin:20260420T170000
DTEND;TZID=Europe/Berlin:20260420T210000
DTSTAMP:20260420T215937
CREATED:20251124T173438Z
LAST-MODIFIED:20251124T173438Z
UID:249087-1776704400-1776718800@sportgaststaette-leukersdorf.de
SUMMARY:Sportfest des SVL
DESCRIPTION:Sportfest des SV-Leukersdorf mit spannenden Wettbewerben und Preisen. Die einzelnen Sportvereine stellen sich vor und Begleiten die Wettkämpfe\, hier kommt Ihr schnell in Kontakt und findet eventuell Euer neues Hobby.
URL:https://sportgaststaette-leukersdorf.de/event/sportfest-des-svl-5/
LOCATION:Sportgaststätte Leukersdorf\, Siedlerstraße 28\, Jahnsdorf OT Leukersdorf\, Sachsen\, 09387\, Deutschland
END:VEVENT
END:VCALENDAR